BEGIN:VCALENDAR
VERSION:2.0
PRODID:-//ChamberMaster//Event Calendar 2.0//EN
METHOD:PUBLISH
X-PUBLISHED-TTL:P1H
REFRESH-INTERVAL:P1H
CALSCALE:GREGORIAN
BEGIN:VTIMEZONE
TZID:America/Chicago
BEGIN:DAYLIGHT
RRULE:FREQ=YEARLY;BYMONTH=3;BYDAY=2SU
DTSTART:20070101T000000
TZOFFSETFROM:-0600
TZOFFSETTO:-0500
TZNAME:Central Daylight Time
END:DAYLIGHT
BEGIN:STANDARD
RRULE:FREQ=YEARLY;BYMONTH=11;BYDAY=1SU
DTSTART:20070101T000000
TZOFFSETFROM:-0500
TZOFFSETTO:-0600
TZNAME:Central Standard Time
END:STANDARD
END:VTIMEZONE
BEGIN:VEVENT
DTSTART;VALUE=DATE:20260502
DTEND;VALUE=DATE:20260503
TRANSP:TRANSPARENT
X-MICROSOFT-CDO-ALLDAYEVENT:TRUE
SUMMARY:Harvest House Annual Scramble
DESCRIPTION:⛳ Charity Golf Tournament   Benefiting Harvest House Ministries Join us for a great day on the green at our Charity Golf Tournament on Saturday\, May 2nd\, starting at 9:00 AM at Hidden Hills Golf Course! This exciting event brings together golfers of all skill and for a meaningful cause. Participation is limited to players with a 7 HCP or less\, ensuring a competitive and enjoyable experience for everyone involved. For just $75 per player\, your registration includes breakfast and lunch\, along with a full day of golf\, camaraderie\, and giving back.Compete for team prizes\, take part in raffles\, and enjoy a fun-filled atmosphere\, all while supporting the incredible work of Harvest House Ministries. Come out\, play your best round\, and make a difference in our community. We look forward to seeing you on the course!Contact Info:Registration: Hidden Hills - (806) 669-5866Harvest House Questions: Irvin - (806) 664-3572Golf Related Questions: David - (806) 886-8055
X-ALT-DESC;FMTTYPE=text/html:<!DOCTYPE html><html><head><title></title></head><body aria-disabled="false"><p>⛳ Charity Golf Tournament &ndash\; Benefiting Harvest House Ministries&nbsp\;</p><p>Join us for a great day on the green at our Charity Golf Tournament on <strong fr-original-style="" style="font-weight: 700\;">Saturday\, May 2nd</strong>\, starting at <strong fr-original-style="" style="font-weight: 700\;">9:00 AM</strong> at <strong fr-original-style="" style="font-weight: 700\;">Hidden Hills Golf Course</strong>!&nbsp\;</p><p>This exciting event brings together golfers of all skill and for a meaningful cause. Participation is limited to players with a <strong fr-original-style="" style="font-weight: 700\;">7 HCP or less</strong>\, ensuring a competitive and enjoyable experience for everyone involved.&nbsp\;</p><p>For just <strong fr-original-style="" style="font-weight: 700\;">$75 per player</strong>\, your registration includes <strong fr-original-style="" style="font-weight: 700\;">breakfast and lunch\,</strong> along with a full day of golf\, camaraderie\, and giving back.</p><p>Compete for t<strong fr-original-style="" style="font-weight: 700\;">eam prizes</strong>\, take part in <strong fr-original-style="" style="font-weight: 700\;">raffles\,&nbsp\;</strong>and enjoy a fun-filled atmosphere\, all while supporting the incredible work of <strong fr-original-style="" style="font-weight: 700\;">Harvest House Ministries.</strong>&nbsp\;</p><p>Come out\, play your best round\, and make a difference in our community. We look forward to seeing you on the course!</p><p><strong fr-original-style="" style="font-weight: 700\;">Contact Info:</strong></p><p><strong fr-original-style="" style="font-weight: 700\;">Registration:&nbsp\;</strong>Hidden Hills - (806) 669-5866</p><p><strong fr-original-style="" style="font-weight: 700\;">Harvest House Questions: </strong>Irvin - (806) 664-3572</p><p><strong fr-original-style="" style="font-weight: 700\;">Golf Related Questions: </strong>David -<strong fr-original-style="" style="font-weight: 700\;"> </strong>(806) 886-8055</p><p><br></p></body></html>
LOCATION:901 Hidden Hills Dr Pampa TX 79065
UID:e.4803.1445597
SEQUENCE:3
DTSTAMP:20260420T142106Z
URL:https://business.pampachamber.com/events/Details/harvest-house-annual-scramble-1712213?sourceTypeId=Hub
END:VEVENT
END:VCALENDAR
