BEGIN:VCALENDAR
VERSION:2.0
PRODID:-//ChamberMaster//Event Calendar 2.0//EN
METHOD:PUBLISH
X-PUBLISHED-TTL:P1H
REFRESH-INTERVAL:P1H
CALSCALE:GREGORIAN
BEGIN:VTIMEZONE
TZID:America/Chicago
BEGIN:DAYLIGHT
RRULE:FREQ=YEARLY;BYMONTH=3;BYDAY=2SU
DTSTART:20070101T000000
TZOFFSETFROM:-0600
TZOFFSETTO:-0500
TZNAME:Central Daylight Time
END:DAYLIGHT
BEGIN:STANDARD
RRULE:FREQ=YEARLY;BYMONTH=11;BYDAY=1SU
DTSTART:20070101T000000
TZOFFSETFROM:-0500
TZOFFSETTO:-0600
TZNAME:Central Standard Time
END:STANDARD
END:VTIMEZONE
BEGIN:VEVENT
DTSTART;TZID=America/Chicago:20260718T090000
DTEND;TZID=America/Chicago:20260718T140000
X-MICROSOFT-CDO-ALLDAYEVENT:FALSE
SUMMARY:Chief Lee Memorial Scramble
DESCRIPTION:⛳️ Join Us for the Chief Lee Memorial Scramble ⛳️ 📅 Saturday\, July 18\, 2026 ⏰ 9:00 AM   2:00 PM 📍 Hidden Hills Golf Course 💵 Entry Fees:   Individual: $70   Team: $250 Whether you're a seasoned golfer or just want to support a great cause\, this event is for you. Gather your team\, enjoy some friendly competition\, and help us celebrate the legacy of Chief Lee. 📞 Register now: (970) 765-6877 Spots will fill up\, don't wait!
X-ALT-DESC;FMTTYPE=text/html:<!DOCTYPE html><html><head><title></title></head><body aria-disabled="false"><p><strong fr-original-style="" style="font-weight: 700\;">⛳️ Join Us for the Chief Lee Memorial Scramble ⛳️ </strong></p><p>📅 Saturday\, July 18\, 2026&nbsp\;</p><p>⏰ 9:00 AM &ndash\; 2:00 PM&nbsp\;</p><p>📍 Hidden Hills Golf Course&nbsp\;</p><p>💵 Entry Fees:&nbsp\;</p><p>&bull\; Individual: $70&nbsp\;</p><p>&bull\; Team: $250&nbsp\;</p><p>Whether you&rsquo\;re a seasoned golfer or just want to support a great cause\, this event is for you. Gather your team\, enjoy some friendly competition\, and help us celebrate the legacy of Chief Lee.&nbsp\;</p><p><strong fr-original-style="" style="font-weight: 700\;">📞 Register now: (970) 765-6877 </strong></p><p>Spots will fill up\, don&rsquo\;t wait!</p></body></html>
LOCATION:901 Hidden Hills Dr Pampa TX 79065
UID:e.4803.1447149
SEQUENCE:3
DTSTAMP:20260421T023511Z
URL:https://business.pampachamber.com/events/Details/chief-lee-memorial-scramble-1713978?sourceTypeId=Hub
END:VEVENT
END:VCALENDAR
