BEGIN:VCALENDAR
VERSION:2.0
PRODID:-//ChamberMaster//Event Calendar 2.0//EN
METHOD:PUBLISH
X-PUBLISHED-TTL:P1H
REFRESH-INTERVAL:P1H
CALSCALE:GREGORIAN
BEGIN:VTIMEZONE
TZID:America/Chicago
BEGIN:DAYLIGHT
RRULE:FREQ=YEARLY;BYMONTH=3;BYDAY=2SU
DTSTART:20070101T000000
TZOFFSETFROM:-0600
TZOFFSETTO:-0500
TZNAME:Central Daylight Time
END:DAYLIGHT
BEGIN:STANDARD
RRULE:FREQ=YEARLY;BYMONTH=11;BYDAY=1SU
DTSTART:20070101T000000
TZOFFSETFROM:-0500
TZOFFSETTO:-0600
TZNAME:Central Standard Time
END:STANDARD
END:VTIMEZONE
BEGIN:VEVENT
DTSTART;TZID=America/Chicago:20260418T110000
DTEND;TZID=America/Chicago:20260418T140000
X-MICROSOFT-CDO-ALLDAYEVENT:FALSE
SUMMARY:Community Wide Shred Day
DESCRIPTION:p.p1 {margin: 0.0px 0.0px 0.0px 0.0px\; font: 12.0px Helvetica}\nDon't be the next victim of identity theft. Let Carmichael-Whatley Funeral Directors and Crematory help keep your information secure. Bring your sensitive documents to The Harbor located at 708 N. Hobart on Saturday\, April 18\, 2026\, and let us distribute them in a locked container provided by Document Storage & Shredding.**LIMIT 2 BOXES PER VEHICLE**
X-ALT-DESC;FMTTYPE=text/html:<!DOCTYPE html><html><head><title></title></head><body aria-disabled="false"><style type="text/css">\np.p1 {margin: 0.0px 0.0px 0.0px 0.0px\; font: 12.0px Helvetica}\n</style><p>Don&#39\;t be the next victim of identity theft. Let <strong fr-original-style="" style="font-weight: 700\;">Carmichael-Whatley Funeral Directors</strong> <strong fr-original-style="" style="font-weight: 700\;">and Crematory</strong> help keep your information secure. Bring your sensitive documents to <strong fr-original-style="" style="font-weight: 700\;">The Harbor located at 708 N. Hobart on Saturday\, April 18\, 2026</strong>\, and let us distribute them in a locked container provided by Document Storage &amp\; Shredding.</p><p><span style="color: rgb(226\, 80\, 65)\;">**LIMIT 2 BOXES PER VEHICLE**</span></p></body></html>
LOCATION:
UID:e.4803.1445575
SEQUENCE:3
DTSTAMP:20260421T101314Z
URL:https://business.pampachamber.com/events/Details/community-wide-shred-day-1712191?sourceTypeId=Hub
END:VEVENT
END:VCALENDAR
