BEGIN:VCALENDAR
VERSION:2.0
PRODID:-//ChamberMaster//Event Calendar 2.0//EN
METHOD:PUBLISH
X-PUBLISHED-TTL:P1H
REFRESH-INTERVAL:P1H
CALSCALE:GREGORIAN
BEGIN:VTIMEZONE
TZID:America/Chicago
BEGIN:DAYLIGHT
RRULE:FREQ=YEARLY;BYMONTH=3;BYDAY=2SU
DTSTART:20070101T000000
TZOFFSETFROM:-0600
TZOFFSETTO:-0500
TZNAME:Central Daylight Time
END:DAYLIGHT
BEGIN:STANDARD
RRULE:FREQ=YEARLY;BYMONTH=11;BYDAY=1SU
DTSTART:20070101T000000
TZOFFSETFROM:-0500
TZOFFSETTO:-0600
TZNAME:Central Standard Time
END:STANDARD
END:VTIMEZONE
BEGIN:VEVENT
DTSTART;TZID=America/Chicago:20260425T150000
DTEND;TZID=America/Chicago:20260425T180000
X-MICROSOFT-CDO-ALLDAYEVENT:FALSE
SUMMARY:Kids Day Celebration/Dia de los Niños
DESCRIPTION:ATENCI N NI OS! / ATTENTION KIDS! 📣✨  Est s listo para una aventura  pica?  Es hora de celebrar tu d a con la fiesta m s grande de la ciudad! Dile a tus pap s que ya tienes planes. 🏃 ♂️💨  Lo que te espera / What's waiting for you!: 🏰 Casas Inflables / Bounce Houses🪅  PI ATAS! ( Prep rate para los dulces! / Get ready for candy!) 🎁 Premios / Prizes 🌭  Comida GRATIS para todos! / FREE Food for everyone! 🎨 Juegos / Games Queremos que cada ni o en Pampa se sienta como un superh roe.  Este evento es para TODA la comunidad!/ This event is for the entire community!PARA LOS PADRES / FOR PARENTS: Organizado por First Pampa Espa ol\, este es un evento seguro\, familiar y totalmente gratuito para bendecir a nuestra comunidad.  Vengan a convivir y a disfrutar de una tarde inolvidable! 📅 25 de abril | April 25th 🕒 3:00 PM - 6:00 PM 📍 200 N Ward St. Pampa\, TX 79065
X-ALT-DESC;FMTTYPE=text/html:<!DOCTYPE html><html><head><title></title></head><body aria-disabled="false"><p><strong fr-original-style="" style="font-weight: 700\;">&iexcl\;ATENCI&Oacute\;N NI&Ntilde\;OS! / ATTENTION KIDS! 📣✨ </strong></p><p>&iquest\;Est&aacute\;s listo para una aventura &eacute\;pica? &iexcl\;Es hora de celebrar tu d&iacute\;a con la fiesta m&aacute\;s grande de la ciudad! Dile a tus pap&aacute\;s que ya tienes planes. 🏃&zwj\;♂️💨&nbsp\;</p><p>&iexcl\;Lo que te espera / What&rsquo\;s waiting for you!:&nbsp\;</p><p>🏰 Casas Inflables / Bounce Houses</p><p>🪅 &iexcl\;PI&Ntilde\;ATAS! (&iexcl\;Prep&aacute\;rate para los dulces! / Get ready for candy!)&nbsp\;</p><p>🎁 Premios / Prizes&nbsp\;</p><p>🌭 &iexcl\;Comida GRATIS para todos! / FREE Food for everyone!&nbsp\;</p><p>🎨 Juegos / Games Queremos que cada ni&ntilde\;o en Pampa se sienta como un superh&eacute\;roe.&nbsp\;</p><p>&iexcl\;Este evento es para TODA la comunidad!/ This event is for the entire community!</p><p><strong fr-original-style="" style="font-weight: 700\;">PARA LOS PADRES / FOR PARENTS:&nbsp\;</strong></p><p>Organizado por First Pampa Espa&ntilde\;ol\, este es un evento seguro\, familiar y totalmente gratuito para bendecir a nuestra comunidad. &iexcl\;Vengan a convivir y a disfrutar de una tarde inolvidable!&nbsp\;</p><p>📅 25 de abril | April 25th&nbsp\;</p><p>🕒 3:00 PM - 6:00 PM&nbsp\;</p><p>📍 200 N Ward St. Pampa\, TX 79065</p></body></html>
LOCATION:200 N Ward Pampa TX 79065
UID:e.4803.1447127
SEQUENCE:3
DTSTAMP:20260421T023420Z
URL:https://business.pampachamber.com/events/Details/kids-day-celebration-dia-de-los-ni-os-1713961?sourceTypeId=Hub
END:VEVENT
END:VCALENDAR
